BEGIN:VCALENDAR
VERSION:2.0
PRODID:-//ESA - ECPv4.9.7//NONSGML v1.0//EN
CALSCALE:GREGORIAN
METHOD:PUBLISH
X-WR-CALNAME:ESA
X-ORIGINAL-URL:https://esa.stormship.com
X-WR-CALDESC:Events for ESA
BEGIN:VTIMEZONE
TZID:"America/New_York"
BEGIN:DAYLIGHT
TZOFFSETFROM:-0500
TZOFFSETTO:-0400
TZNAME:EDT
DTSTART:20180311T070000
END:DAYLIGHT
BEGIN:STANDARD
TZOFFSETFROM:-0400
TZOFFSETTO:-0500
TZNAME:EST
DTSTART:20181104T060000
END:STANDARD
END:VTIMEZONE
BEGIN:VEVENT
DTSTART;TZID="America/New_York":20181206T080000
DTEND;TZID="America/New_York":20181206T170000
DTSTAMP:20260421T145727
CREATED:20190829T175053Z
LAST-MODIFIED:20190829T175053Z
UID:2967-1544083200-1544115600@esa.stormship.com
SUMMARY:U S Energy Storage Monitor 4th Quarter Summary
DESCRIPTION:A recording of this webinar is available for public viewing (below) \n\n\n\n\nDelivered quarterly\, the U.S. Energy Storage Monitor provides the industry’s only comprehensive research on energy storage markets\, deployments\, policies\, regulations and financing in the U.S. These in-depth reports provide energy industry professionals\, policymakers\, government agencies and financiers with consistent\, actionable insight into the burgeoning U.S. energy storage market. \n\n\n\n\n\n
URL:https://esa.stormship.com/event/u-s-energy-storage-monitor-4th-quarter-summary/
CATEGORIES:Webinar
END:VEVENT
END:VCALENDAR