BEGIN:VCALENDAR
VERSION:2.0
PRODID:-//ESA - ECPv4.9.7//NONSGML v1.0//EN
CALSCALE:GREGORIAN
METHOD:PUBLISH
X-WR-CALNAME:ESA
X-ORIGINAL-URL:https://esa.stormship.com
X-WR-CALDESC:Events for ESA
BEGIN:VTIMEZONE
TZID:"America/New_York"
BEGIN:DAYLIGHT
TZOFFSETFROM:-0500
TZOFFSETTO:-0400
TZNAME:EDT
DTSTART:20180311T070000
END:DAYLIGHT
BEGIN:STANDARD
TZOFFSETFROM:-0400
TZOFFSETTO:-0500
TZNAME:EST
DTSTART:20181104T060000
END:STANDARD
END:VTIMEZONE
BEGIN:VEVENT
DTSTART;TZID="America/New_York":20181211T080000
DTEND;TZID="America/New_York":20181211T170000
DTSTAMP:20260421T150647
CREATED:20190829T174135Z
LAST-MODIFIED:20190829T174841Z
UID:2948-1544515200-1544547600@esa.stormship.com
SUMMARY:Nevada: 700 MW of Energy Storage by 2030!? An In-Depth Look at the Recent Economic Potential Study
DESCRIPTION:A recording of this webinar is available for public viewing (below) \nNevada’s energy future could include up to 700 MW of cost-effective energy storage\, according to a study out last month from Brattle. The study\, commissioned by the Public Utilities Commission of Nevada and the Nevada Governor’s Office of Energy\, found that up Nevada could deploy up to 175 MW of cost-effective energy storage by 2020\, and between 700 and 1\,000 MW by 2030. \n\n
URL:https://esa.stormship.com/event/nevada-700-mw-of-energy-storage-by-2030-an-in-depth-look-at-the-recent-economic-potential-study/
CATEGORIES:Webinar
END:VEVENT
END:VCALENDAR