BEGIN:VCALENDAR
VERSION:2.0
PRODID:-//ESA - ECPv4.9.7//NONSGML v1.0//EN
CALSCALE:GREGORIAN
METHOD:PUBLISH
X-WR-CALNAME:ESA
X-ORIGINAL-URL:https://esa.stormship.com
X-WR-CALDESC:Events for ESA
BEGIN:VTIMEZONE
TZID:"America/New_York"
BEGIN:DAYLIGHT
TZOFFSETFROM:-0500
TZOFFSETTO:-0400
TZNAME:EDT
DTSTART:20200308T070000
END:DAYLIGHT
BEGIN:STANDARD
TZOFFSETFROM:-0400
TZOFFSETTO:-0500
TZNAME:EST
DTSTART:20201101T060000
END:STANDARD
END:VTIMEZONE
BEGIN:VEVENT
DTSTART;VALUE=DATE:20200408
DTEND;VALUE=DATE:20200411
DTSTAMP:20260421T150341
CREATED:20190826T154929Z
LAST-MODIFIED:20190826T154929Z
UID:2765-1586304000-1586563199@esa.stormship.com
SUMMARY:ESA’s Annual Energy Storage Conference & EXPO
DESCRIPTION:A Must-Attend Event for Storage!\nESA’s Annual Conference and Expo is built upon the unprecedented growth of the energy storage industry. ESACon brings new audiences and new experiences to the largest national conference and trade show for energy storage. \nESACon is the only national conference and expo event sponsored by the energy storage industry\, for the energy storage industry. We also take pride in our inclusion of the broader energy industry – expanding our networks\, including all resources\, and integrating energy storage into the core of the electric and transportation industries. \nSave the date for #ESACon20: April 8-10\, 2020\nESACon features leading industry speakers\, including nationally recognized leaders in energy\, politics\, and business. With insightful education sessions & workshops\, site tours\, and the best party in the industry\, ESA’s Annual Conference is clearly the must-attend event for energy storage education and a vital platform to make key networking connections. \nTo learn more\, visit the ESACon website. \n
URL:https://esa.stormship.com/event/esas-annual-energy-storage-conference-expo/
CATEGORIES:ESA Conference
END:VEVENT
END:VCALENDAR